BEGIN:VCALENDAR
VERSION:2.0
PRODID:-//ChamberMaster//Event Calendar 2.0//EN
METHOD:PUBLISH
X-PUBLISHED-TTL:P3D
REFRESH-INTERVAL:P3D
CALSCALE:GREGORIAN
BEGIN:VEVENT
DTSTART:20101010T000000Z
DTEND:20101010T010000Z
X-MICROSOFT-CDO-ALLDAYEVENT:FALSE
SUMMARY:Book Reading @ Jackrabbit Press
DESCRIPTION:October 9th at 6pm \n\n	Book Reading: Into The Dark- Escape of the Nomad \n\n	by Science Fiction and Fantasy Author\, Bill Housley \n\n	*Special Astronomy Presentation to follow \n\n	Light Refreshments will be served \n\n	(may not be appropriate for younger age children) \n\n	No cost for this event- All Welcome \n\n	This book was just released. There will be a book signing earlier that \n\n	day\, Oct. 9th at Starry Night Books in Tooele at 3pm.
X-ALT-DESC;FMTTYPE=text/html:<p align="left">\n	&nbsp\;</p>\n<p style="text-align: center">\n	<b><font size="5">October 9</font><font size="3">th </font><font size="5">at 6pm </font></b></p>\n<p style="text-align: center">\n	<font face="Times New Roman\,Times New Roman" size="4"><font face="Times New Roman\,Times New Roman" size="4">Book Reading: </font></font><i><font face="Times New Roman\,Times New Roman" size="4"><font face="Times New Roman\,Times New Roman" size="4">Into The Dark- Escape of the Nomad </font></font></i></p>\n<p style="text-align: center">\n	<font face="Times New Roman\,Times New Roman" size="4"><font face="Times New Roman\,Times New Roman" size="4">by Science Fiction and Fantasy Author\, Bill Housley </font></font></p>\n<p style="text-align: center">\n	<font face="Times New Roman\,Times New Roman" size="4"><font face="Times New Roman\,Times New Roman" size="4">*Special Astronomy Presentation to follow </font></font></p>\n<p style="text-align: center">\n	<font face="Times New Roman\,Times New Roman" size="3"><font face="Times New Roman\,Times New Roman" size="3">Light Refreshments will be served </font></font></p>\n<p style="text-align: center">\n	<font face="Times New Roman\,Times New Roman" size="3"><font face="Times New Roman\,Times New Roman" size="3">(may not be appropriate for younger age children) </font></font></p>\n<p style="text-align: center">\n	<font face="Times New Roman\,Times New Roman" size="3"><font face="Times New Roman\,Times New Roman" size="3">No cost for this event- All Welcome </font></font></p>\n<p style="text-align: center">\n	<font face="Times New Roman\,Times New Roman" size="3"><font face="Times New Roman\,Times New Roman" size="3">This book was just released. There will be a book signing earlier that </font></font></p>\n<p style="text-align: center">\n	<font face="Times New Roman\,Times New Roman" size="3"><font face="Times New Roman\,Times New Roman" size="3">day\, Oct. 9</font></font><font face="Times New Roman\,Times New Roman" size="1"><font face="Times New Roman\,Times New Roman" size="1">th </font></font><font face="Times New Roman\,Times New Roman" size="3"><font face="Times New Roman\,Times New Roman" size="3">at </font></font><b><font size="3"><font face="Times New Roman">Starry Night Books </font></font></b><font face="Times New Roman\,Times New Roman" size="3"><font face="Times New Roman\,Times New Roman" size="3">in Tooele at 3pm. </font></font></p>\n
LOCATION:
UID:e.125.3257
SEQUENCE:3
DTSTAMP:20260422T215724Z
URL:https://members.tooelechamber.com/events/details/book-reading-jackrabbit-press-10-09-2010-3257
END:VEVENT

END:VCALENDAR
