BEGIN:VCALENDAR
VERSION:2.0
PRODID:-//ChamberMaster//Event Calendar 2.0//EN
METHOD:PUBLISH
X-PUBLISHED-TTL:P3D
REFRESH-INTERVAL:P3D
CALSCALE:GREGORIAN
BEGIN:VEVENT
DTSTART:20120218T170000Z
DTEND:20120218T190000Z
X-MICROSOFT-CDO-ALLDAYEVENT:FALSE
SUMMARY:Book signing w/jDian Thomas
DESCRIPTION:Book Signing\n\n	With\n\n	Well know television & radio personality\n\n	also\n\n	New York Times Best Selling Author\n\n	\n\n	Dian Thomas\n\n	@\n\n	Maceys\n\n	972 North Main Street\, Tooele\n\n	10am-12 noon\n\n	February 18th\, 2012
X-ALT-DESC;FMTTYPE=text/html:<p style="text-align: center">\n	<span style="font-size: 20px"><span _fck_bookmark="1" style="display: none"><span _fck_bookmark="1" style="display: none">&nbsp\;</span>&nbsp\;</span><strong><u>Book Signing</u></strong><br />\n	<span style="font-size: 12px">With<br />\n	<span style="font-size: 18px">Well know television &amp\; radio personality<br />\n	<span style="font-size: 12px">also<br />\n	<span style="font-size: 18px">New York Times Best Selling Author</span></span></span><br />\n	<br />\n	<span style="font-size: 22px"><span style="font-size: 24px">Dian Thomas<br />\n	<span style="font-size: 12px">@</span></span><br />\n	<span style="font-size: 18px">Maceys<br />\n	972 North Main Street\, Tooele<br />\n	10am-12 noon<br />\n	February 18th\, 2012</span></span></span></span><br />\n	&nbsp\;</p>\n
LOCATION:
UID:e.125.4791
SEQUENCE:3
DTSTAMP:20260421T185931Z
URL:https://members.tooelechamber.com/events/details/book-signing-w-jdian-thomas-02-18-2012-4791
END:VEVENT

END:VCALENDAR
