BEGIN:VCALENDAR
VERSION:2.0
PRODID:-//ChamberMaster//Event Calendar 2.0//EN
METHOD:PUBLISH
X-PUBLISHED-TTL:P3D
REFRESH-INTERVAL:P3D
CALSCALE:GREGORIAN
BEGIN:VEVENT
DTSTART:20080326T140000Z
DTEND:20080327T030000Z
X-MICROSOFT-CDO-ALLDAYEVENT:FALSE
SUMMARY:Breakfast Meeting
DESCRIPTION:Presenter: ComcastTopic: Business Trends
X-ALT-DESC;FMTTYPE=text/html:<div>Presenter: Comcast</div><div>Topic: Business Trends</div>
LOCATION:Tooele County Courthouse Auditorium47 South Main StreetTooele
UID:e.125.248
SEQUENCE:3
DTSTAMP:20260424T220222Z
URL:https://members.tooelechamber.com/events/details/breakfast-meeting-03-26-2008-248
END:VEVENT

END:VCALENDAR
