BEGIN:VCALENDAR
VERSION:2.0
PRODID:-//ChamberMaster//Event Calendar 2.0//EN
METHOD:PUBLISH
X-PUBLISHED-TTL:P3D
REFRESH-INTERVAL:P3D
CALSCALE:GREGORIAN
BEGIN:VEVENT
DTSTART:20070530T140000Z
DTEND:20070530T140000Z
X-MICROSOFT-CDO-ALLDAYEVENT:FALSE
SUMMARY:Breakfast Meeting- COMCAST
DESCRIPTION:How to Develop Effective and Rewarding Customer Rapport and Retention\n\nHow to maximize customer service.  For customers today\, extraordinary service is the rule\, not the exception. In this presentation we will discuss success stories and practices for developing effective and rewarding customer rapport and taking your customers to the next level.
X-ALT-DESC;FMTTYPE=text/html:<p class="Pa0" style="MARGIN: 0in 0in 0pt"><span style="FONT-SIZE: 11pt\; FONT-FAMILY: Arial"><span class="A2"><span style="mso-ansi-font-size: 11.0pt\; mso-bidi-font-size: 11.0pt"><font color="#0000ff">How to Develop Effective and Rewarding Customer Rapport and Retention</font><br /><br />How to maximize customer service.&nbsp\; For customers today\, extraordinary service is the rule\, not the exception. In this presentation we will discuss success stories and practices for developing effective and rewarding customer rapport and taking your customers to the next level.</span></span></span></p>
LOCATION:Leatherbys Family Creamery 61 East 1280 North Tooele
UID:e.125.77
SEQUENCE:3
DTSTAMP:20260425T131933Z
URL:https://members.tooelechamber.com/events/details/breakfast-meeting-comcast-05-30-2007-77
END:VEVENT

END:VCALENDAR
