BEGIN:VCALENDAR
VERSION:2.0
PRODID:-//ChamberMaster//Event Calendar 2.0//EN
METHOD:PUBLISH
X-PUBLISHED-TTL:P3D
REFRESH-INTERVAL:P3D
CALSCALE:GREGORIAN
BEGIN:VEVENT
DTSTART:20130112T190000Z
DTEND:20130112T210000Z
X-MICROSOFT-CDO-ALLDAYEVENT:FALSE
SUMMARY:Brunch with Authord & Illustrators
DESCRIPTION:Come have Brunch with Authors & Illustrators\n\n	\n\n	Cost: $15.00 Tickets may be purchased @ Birch Family Pharmacy in Tooele.\n\n	\n\n	Time: 12:00 Noon- 2:00PM\n\n	\n\n	Free Activities for all.\n\n	\n\n	Come meet Authors Tyler Whitesides & Jessica Day George.\n\n	\n\n	Visit us @ www.childrensbookfestival.com
X-ALT-DESC;FMTTYPE=text/html:<p>\n	<span style="color: #800080"><u><span style="font-family: arial"><span style="font-size: 20px">Come have Brunch with Authors &amp\; Illustrators</span></span></u></span><br />\n	<br />\n	<span style="font-size: 14px">Cost: $15.00 Tickets may be purchased @ Birch Family Pharmacy in Tooele.<br />\n	<br />\n	Time: 12:00 Noon- 2:00PM<br />\n	<br />\n	Free Activities for all.<br />\n	<br />\n	Come meet Authors Tyler Whitesides &amp\; Jessica Day George.<br />\n	<br />\n	Visit us @ www.childrensbookfestival.com </span><br />\n	<br />\n	&nbsp\;</p>\n
LOCATION:
UID:e.125.4948
SEQUENCE:3
DTSTAMP:20260420T233103Z
URL:https://members.tooelechamber.com/events/details/brunch-with-authord-illustrators-01-12-2013-4948
END:VEVENT

END:VCALENDAR
