BEGIN:VCALENDAR
VERSION:2.0
PRODID:-//ChamberMaster//Event Calendar 2.0//EN
METHOD:PUBLISH
X-PUBLISHED-TTL:P3D
REFRESH-INTERVAL:P3D
CALSCALE:GREGORIAN
BEGIN:VEVENT
DTSTART:20120127T003000Z
DTEND:20120127T020000Z
X-MICROSOFT-CDO-ALLDAYEVENT:FALSE
SUMMARY:Business After Hours
DESCRIPTION:Business After Hours\n\n	Hosted by: Cottage Glen\n\n	1892 Aaron Drive\, Tooele\n\n	5:30pm-7pm
X-ALT-DESC;FMTTYPE=text/html:<p style="text-align: center">\n	<strong><span style="font-size: 20px">Business After Hours<br />\n	Hosted by: Cottage Glen<br />\n	1892 Aaron Drive\, Tooele<br />\n	5:30pm-7pm<br />\n	<span _fck_bookmark="1" style="display: none">&nbsp\;</span></span></strong></p>\n
LOCATION:
UID:e.125.3952
SEQUENCE:3
DTSTAMP:20260421T203136Z
URL:https://members.tooelechamber.com/events/details/business-after-hours-01-26-2012-3952
END:VEVENT

END:VCALENDAR
