BEGIN:VCALENDAR
VERSION:2.0
PRODID:-//ChamberMaster//Event Calendar 2.0//EN
METHOD:PUBLISH
X-PUBLISHED-TTL:P3D
REFRESH-INTERVAL:P3D
CALSCALE:GREGORIAN
BEGIN:VEVENT
DTSTART:20100129T003000Z
DTEND:20100129T020000Z
X-MICROSOFT-CDO-ALLDAYEVENT:FALSE
SUMMARY:Business After Hours
DESCRIPTION:Business After HoursJanuary 28th - 5:30- 7 pmLocation: Triple T278 No. Main\, TooeleGreat Networking OpportunityNo Charge for this Event!
X-ALT-DESC;FMTTYPE=text/html:<div>Business After Hours</div><div>January 28th - 5:30- 7 pm</div><div>Location: Triple T</div><div>278 No. Main\, Tooele</div><div>Great Networking Opportunity</div><div>No Charge for this Event!</div>
LOCATION:
UID:e.125.2588
SEQUENCE:3
DTSTAMP:20260423T104153Z
URL:https://members.tooelechamber.com/events/details/business-after-hours-01-28-2010-2588
END:VEVENT

END:VCALENDAR
