BEGIN:VCALENDAR
VERSION:2.0
PRODID:-//ChamberMaster//Event Calendar 2.0//EN
METHOD:PUBLISH
X-PUBLISHED-TTL:P3D
REFRESH-INTERVAL:P3D
CALSCALE:GREGORIAN
BEGIN:VEVENT
DTSTART:20130201T003000Z
DTEND:20130201T020000Z
X-MICROSOFT-CDO-ALLDAYEVENT:FALSE
SUMMARY:Business After Hours
DESCRIPTION:Business After Hours\n\n\n\nFamily Bytes\n\n5:30-7:00\n\nTooele Chamber of Commerce Buliding\n\n154 South Main Street.
X-ALT-DESC;FMTTYPE=text/html:<span style="font-size: 16px"><span style="color: #006400"><u>Business After Hours</u></span><br />\n<br />\nFamily Bytes<br />\n5:30-7:00<br />\nTooele Chamber of Commerce Buliding<br />\n154 South Main Street.</span>
LOCATION:
UID:e.125.4957
SEQUENCE:3
DTSTAMP:20260421T013522Z
URL:https://members.tooelechamber.com/events/details/business-after-hours-01-31-2013-4957
END:VEVENT

END:VCALENDAR
