BEGIN:VCALENDAR
VERSION:2.0
PRODID:-//ChamberMaster//Event Calendar 2.0//EN
METHOD:PUBLISH
X-PUBLISHED-TTL:P3D
REFRESH-INTERVAL:P3D
CALSCALE:GREGORIAN
BEGIN:VEVENT
DTSTART:20100226T003000Z
DTEND:20100226T020000Z
X-MICROSOFT-CDO-ALLDAYEVENT:FALSE
SUMMARY:Business After Hours
DESCRIPTION:BUSINESS AFTER HOURS Thursday\,  February 25th5:30- 7 pmHost: American Cancer SocietyLocation: TBDGreat Networking OpportunityNo Charge for this Event! BRING YOUR BUSINESS CARD AND ENTER TO WIN A PRIZE. IF YOU WOULD LIKE\,  PLEASE BRING A PROMOTIONAL ITEM FROM YOUR COMPANY TO GIVE AWAY AS A PRIZE.
X-ALT-DESC;FMTTYPE=text/html:<div><p class="MsoPlainText" style="margin: 0in 0in 0pt\; text-align: center"><u><span style="font-size: medium"><span style="font-family: Times New Roman"><strong>BUSINESS AFTER HOURS </strong></span></span></u></p><p class="MsoPlainText" style="margin: 0in 0in 0pt\; text-align: center"><span style="font-size: medium"><span style="font-family: Times New Roman"><strong>Thursday\,<span style="mso-spacerun: yes">&nbsp\; </span>February 25th</strong></span></span></p><p class="MsoPlainText" style="margin: 0in 0in 0pt\; text-align: center"><span style="font-size: medium"><span style="font-family: Times New Roman"><strong>5:30- 7 pm</strong></span></span></p><p class="MsoPlainText" style="margin: 0in 0in 0pt\; text-align: center"><span style="font-size: medium"><span style="font-family: Times New Roman"><strong>Host: American Cancer Society</strong></span></span></p><p class="MsoPlainText" style="margin: 0in 0in 0pt\; text-align: center"><span style="font-size: medium"><span style="font-family: Times New Roman"><strong>Location: TBD</strong></span></span></p><p class="MsoPlainText" style="margin: 0in 0in 0pt\; text-align: center"><span style="font-size: medium"><span style="font-family: Times New Roman"><strong>Great Networking Opportunity</strong></span></span></p><p class="MsoPlainText" style="margin: 0in 0in 0pt\; text-align: center"><span style="font-size: medium"><span style="font-family: Times New Roman"><strong>No Charge for this Event! BRING YOUR BUSINESS CARD AND ENTER TO WIN A PRIZE. IF YOU WOULD LIKE\,<span style="mso-spacerun: yes">&nbsp\; </span>PLEASE BRING A PROMOTIONAL ITEM FROM YOUR COMPANY TO GIVE AWAY AS A PRIZE.</strong></span></span></p></div>
LOCATION:
UID:e.125.3091
SEQUENCE:3
DTSTAMP:20260423T103745Z
URL:https://members.tooelechamber.com/events/details/business-after-hours-02-25-2010-3091
END:VEVENT

END:VCALENDAR
