BEGIN:VCALENDAR
VERSION:2.0
PRODID:-//ChamberMaster//Event Calendar 2.0//EN
METHOD:PUBLISH
X-PUBLISHED-TTL:P3D
REFRESH-INTERVAL:P3D
CALSCALE:GREGORIAN
BEGIN:VEVENT
DTSTART:20130301T003000Z
DTEND:20130301T020000Z
X-MICROSOFT-CDO-ALLDAYEVENT:FALSE
SUMMARY:Business After Hours
DESCRIPTION:Business After Hours
X-ALT-DESC;FMTTYPE=text/html:<div style="color: gray">\n	Business After Hours<span _fck_bookmark="1" style="display: none">&nbsp\;</span></div>\n
LOCATION:
UID:e.125.4966
SEQUENCE:3
DTSTAMP:20260420T233347Z
URL:https://members.tooelechamber.com/events/details/business-after-hours-02-28-2013-4966
END:VEVENT

END:VCALENDAR
