BEGIN:VCALENDAR
VERSION:2.0
PRODID:-//ChamberMaster//Event Calendar 2.0//EN
METHOD:PUBLISH
X-PUBLISHED-TTL:P3D
REFRESH-INTERVAL:P3D
CALSCALE:GREGORIAN
BEGIN:VEVENT
DTSTART:20120322T233000Z
DTEND:20120323T010000Z
X-MICROSOFT-CDO-ALLDAYEVENT:FALSE
SUMMARY:Business After Hours
DESCRIPTION:Business After Hours\n\n	5:30- 7:00 p.m.\n\n	2 Brothers Verizon Communication\n\n	6727 North Highway 36 Suite #2\n\n	Stansbury Park\, UT 84074
X-ALT-DESC;FMTTYPE=text/html:<p>\n	<span style="font-size: 20px"><strong>Business After Hours<br />\n	5:30- 7:00 p.m.</strong></span><br />\n	<span style="font-size: 22px">2 Brothers Verizon Communication<br />\n	6727 North Highway 36&nbsp\;Suite #2<br />\n	Stansbury Park\, UT 84074</span></p>\n
LOCATION:
UID:e.125.4621
SEQUENCE:3
DTSTAMP:20260421T173804Z
URL:https://members.tooelechamber.com/events/details/business-after-hours-03-22-2012-4621
END:VEVENT

END:VCALENDAR
