BEGIN:VCALENDAR
VERSION:2.0
PRODID:-//ChamberMaster//Event Calendar 2.0//EN
METHOD:PUBLISH
X-PUBLISHED-TTL:P3D
REFRESH-INTERVAL:P3D
CALSCALE:GREGORIAN
BEGIN:VEVENT
DTSTART:20100325T233000Z
DTEND:20100326T010000Z
X-MICROSOFT-CDO-ALLDAYEVENT:FALSE
SUMMARY:Business After Hours
DESCRIPTION:BUSINESS AFTER HOURS Thursday\,  March 25th5:30- 7 pmHost: Upgrades Etc.Location: 26 W. Vine Street\, TooeleGreat Networking OpportunityNo Charge for this Event! BRING YOUR BUSINESS CARD AND ENTER TO WIN A PRIZE. IF YOU WOULD LIKE\,  PLEASE BRING A PROMOTIONAL ITEM FROM YOUR COMPANY TO GIVE AWAY AS A PRIZE.
X-ALT-DESC;FMTTYPE=text/html:<div><div><p class="MsoPlainText" style="margin: 0in 0in 0pt\; text-align: center"><u><span style="font-size: medium"><span style="font-family: Times New Roman"><strong>BUSINESS AFTER HOURS </strong></span></span></u></p><p class="MsoPlainText" style="margin: 0in 0in 0pt\; text-align: center"><span style="font-size: medium"><span style="font-family: Times New Roman"><strong>Thursday\,<span style="mso-spacerun: yes">&nbsp\;&nbsp\;</span>March 25th</strong></span></span></p><p class="MsoPlainText" style="margin: 0in 0in 0pt\; text-align: center"><span style="font-size: medium"><span style="font-family: Times New Roman"><strong>5:30- 7 pm</strong></span></span></p><p class="MsoPlainText" style="margin: 0in 0in 0pt\; text-align: center"><span style="font-size: medium"><span style="font-family: Times New Roman"><strong>Host: Upgrades Etc.</strong></span></span></p><p class="MsoPlainText" style="margin: 0in 0in 0pt\; text-align: center"><span style="font-size: medium"><span style="font-family: Times New Roman"><strong>Location: 26 W. Vine Street\, Tooele</strong></span></span></p><p class="MsoPlainText" style="margin: 0in 0in 0pt\; text-align: center"><span style="font-size: medium"><span style="font-family: Times New Roman"><strong>Great Networking Opportunity</strong></span></span></p><p class="MsoPlainText" style="margin: 0in 0in 0pt\; text-align: center"><span style="font-size: medium"><span style="font-family: Times New Roman"><strong>No Charge for this Event! BRING YOUR BUSINESS CARD AND ENTER TO WIN A PRIZE. IF YOU WOULD LIKE\,<span style="mso-spacerun: yes">&nbsp\; </span>PLEASE BRING A PROMOTIONAL ITEM FROM YOUR COMPANY TO GIVE AWAY AS A PRIZE.</strong></span></span></p></div></div>
LOCATION:
UID:e.125.3092
SEQUENCE:3
DTSTAMP:20260423T080257Z
URL:https://members.tooelechamber.com/events/details/business-after-hours-03-25-2010-3092
END:VEVENT

END:VCALENDAR
