BEGIN:VCALENDAR
VERSION:2.0
PRODID:-//ChamberMaster//Event Calendar 2.0//EN
METHOD:PUBLISH
X-PUBLISHED-TTL:P3D
REFRESH-INTERVAL:P3D
CALSCALE:GREGORIAN
BEGIN:VEVENT
DTSTART:20080424T233000Z
DTEND:20080425T010000Z
X-MICROSOFT-CDO-ALLDAYEVENT:FALSE
SUMMARY:Business After Hours
DESCRIPTION:Sponsor: Best Western Inn TooeleNo Cost for this EventGreat Networking opportunity!!
X-ALT-DESC;FMTTYPE=text/html:<div>Sponsor: Best Western Inn Tooele</div><div>No Cost for this Event</div><div>Great Networking opportunity!!</div>
LOCATION:Best Western Inn Tooele365 No. Main St.Tooele
UID:e.125.372
SEQUENCE:3
DTSTAMP:20260424T203313Z
URL:https://members.tooelechamber.com/events/details/business-after-hours-04-24-2008-372
END:VEVENT

END:VCALENDAR
