BEGIN:VCALENDAR
VERSION:2.0
PRODID:-//ChamberMaster//Event Calendar 2.0//EN
METHOD:PUBLISH
X-PUBLISHED-TTL:P3D
REFRESH-INTERVAL:P3D
CALSCALE:GREGORIAN
BEGIN:VEVENT
DTSTART:20120426T233000Z
DTEND:20120427T010000Z
X-MICROSOFT-CDO-ALLDAYEVENT:FALSE
SUMMARY:Business After Hours
DESCRIPTION:Business After Hours\n\nDeseret Computer Solutions\n\n225 East Main Street Suite D\n\nGrantsville\n\n5:30 - 7:00 pm\n\nFree Networking Event!!
X-ALT-DESC;FMTTYPE=text/html:<span style="font-size: 20px"><strong><em><u>Business After Hours</u></em><br />\nDeseret Computer Solutions<br />\n225 East Main Street Suite D<br />\nGrantsville<br />\n5:30 - 7:00 pm<br />\nFree Networking Event!!</strong></span><br />\n<br />\n<br />\n
LOCATION:
UID:e.125.4640
SEQUENCE:3
DTSTAMP:20260421T173044Z
URL:https://members.tooelechamber.com/events/details/business-after-hours-04-26-2012-4640
END:VEVENT

END:VCALENDAR
