BEGIN:VCALENDAR
VERSION:2.0
PRODID:-//ChamberMaster//Event Calendar 2.0//EN
METHOD:PUBLISH
X-PUBLISHED-TTL:P3D
REFRESH-INTERVAL:P3D
CALSCALE:GREGORIAN
BEGIN:VEVENT
DTSTART:20120517T233000Z
DTEND:20120518T010000Z
X-MICROSOFT-CDO-ALLDAYEVENT:FALSE
SUMMARY:Business After Hours
DESCRIPTION:Business After Hours\n\n5:30 - 7:00 p.m.\n\nHost :  Holiday Inn Express\n\n1531 North Main Street\, Tooele\n\nFree Networking Event!
X-ALT-DESC;FMTTYPE=text/html:<span style="font-size: 20px"><strong><u>Business After Hours</u><br />\n5:30 - 7:00 p.m.<br />\nHost :&nbsp\; Holiday Inn Express<br />\n1531 North Main Street\, Tooele<br />\nFree Networking Event!</strong></span><br />\n
LOCATION:
UID:e.125.4643
SEQUENCE:3
DTSTAMP:20260421T154536Z
URL:https://members.tooelechamber.com/events/details/business-after-hours-05-17-2012-4643
END:VEVENT

END:VCALENDAR
