BEGIN:VCALENDAR
VERSION:2.0
PRODID:-//ChamberMaster//Event Calendar 2.0//EN
METHOD:PUBLISH
X-PUBLISHED-TTL:P3D
REFRESH-INTERVAL:P3D
CALSCALE:GREGORIAN
BEGIN:VEVENT
DTSTART:20100624T233000Z
DTEND:20100625T010000Z
X-MICROSOFT-CDO-ALLDAYEVENT:FALSE
SUMMARY:Business After Hours
DESCRIPTION:Business After Hours Thursday\, June 24\, 2010 @ 5:30-7pm Host: Royal Wholesale ElectricLocation: 332 South 1200 West\, TooeleNO CHARGE for this event!GREAT networking opportunity!Bring your business card to enter into a drawing and/or bring something from your business for a prize
X-ALT-DESC;FMTTYPE=text/html:<div style="text-align: center"><strong><u><span style="font-size: large">Business After Hours </span></u></strong></div><div style="text-align: center"><span style="font-size: large">Thursday\, June 24\, 2010 @ 5:30-7pm </span></div><div style="text-align: center"><span style="font-size: large">Host: Royal Wholesale Electric</span></div><div style="text-align: center"><span style="font-size: large">Location: 332 South 1200 West\, Tooele</span></div><div style="text-align: center"><span style="font-size: large">NO CHARGE for this event!</span></div><div style="text-align: center"><span style="font-size: large">GREAT networking opportunity!</span></div><div style="text-align: center"><span style="font-size: large">Bring your business card to enter into a drawing and/or bring something from your business for a prize </span></div>
LOCATION:
UID:e.125.3200
SEQUENCE:3
DTSTAMP:20260423T044645Z
URL:https://members.tooelechamber.com/events/details/business-after-hours-06-24-2010-3200
END:VEVENT

END:VCALENDAR
