BEGIN:VCALENDAR
VERSION:2.0
PRODID:-//ChamberMaster//Event Calendar 2.0//EN
METHOD:PUBLISH
X-PUBLISHED-TTL:P3D
REFRESH-INTERVAL:P3D
CALSCALE:GREGORIAN
BEGIN:VEVENT
DTSTART:20070628T233000Z
DTEND:20070629T010000Z
X-MICROSOFT-CDO-ALLDAYEVENT:FALSE
SUMMARY:Business After Hours
DESCRIPTION:Business After Hours is a networking event that consistently gathers business professionals each month. It takes place at various Chamber member businesses the last Thrusday of each month\, from 5:30-7:00 p.m. Business After Hours is characterized bya lively crowd\, refreshments and hors d' oeuvres in a casual atmosphere. It also provides an opportunity to increase referral networks\, increase name recognition\, gain visibility and strengthen relationship skills.
X-ALT-DESC;FMTTYPE=text/html:Business After Hours is a networking event that consistently gathers business professionals each month. It takes place at various Chamber member businesses the last Thrusday of each month\, from 5:30-7:00 p.m. Business After Hours is characterized bya lively crowd\, refreshments and hors d' oeuvres in a casual atmosphere. It also provides an opportunity to increase referral networks\, increase name recognition\, gain visibility and strengthen relationship skills. 
LOCATION:Anything Cute Boutique\, 33 North Main Tooele\, UT 84074
UID:e.125.122
SEQUENCE:3
DTSTAMP:20260425T114011Z
URL:https://members.tooelechamber.com/events/details/business-after-hours-06-28-2007-122
END:VEVENT

END:VCALENDAR
