BEGIN:VCALENDAR
VERSION:2.0
PRODID:-//ChamberMaster//Event Calendar 2.0//EN
METHOD:PUBLISH
X-PUBLISHED-TTL:P3D
REFRESH-INTERVAL:P3D
CALSCALE:GREGORIAN
BEGIN:VEVENT
DTSTART:20100729T233000Z
DTEND:20100730T010000Z
X-MICROSOFT-CDO-ALLDAYEVENT:FALSE
SUMMARY:Business After Hours
DESCRIPTION:Business After Hours All Star Sports Bar & Grill 1111 North 200 West\, Tooele Mancave provinding foodMust be 21 or older to attendGREAT networking opportunity!NO CHARGE for this event!!Please bring a business card to enter into the drawing for great prizes and/or bring a prize from your business to donate.
X-ALT-DESC;FMTTYPE=text/html:<div style="text-align: center"><strong><u><span style="font-size: large">Business After Hours </span></u></strong></div><div style="text-align: center"><span style="font-size: large">All Star Sports Bar &amp\;&nbsp\;Grill </span></div><div style="text-align: center"><span style="font-size: large">1111 North 200 West\, Tooele </span></div><div style="text-align: center"><span style="font-size: large">Mancave provinding food</span></div><div style="text-align: center"><span style="font-size: large">Must be 21 or older to attend</span></div><div style="text-align: center"><span style="font-size: large">GREAT networking opportunity!</span></div><div style="text-align: center"><span style="font-size: large">NO CHARGE for this event!!</span></div><div style="text-align: center"><span style="font-size: large">Please bring a business card to enter into the drawing for great prizes and/or bring a prize from your business to donate. </span></div><div>&nbsp\;</div>
LOCATION:
UID:e.125.3203
SEQUENCE:3
DTSTAMP:20260423T013413Z
URL:https://members.tooelechamber.com/events/details/business-after-hours-07-29-2010-3203
END:VEVENT

END:VCALENDAR
