BEGIN:VCALENDAR
VERSION:2.0
PRODID:-//ChamberMaster//Event Calendar 2.0//EN
METHOD:PUBLISH
X-PUBLISHED-TTL:P3D
REFRESH-INTERVAL:P3D
CALSCALE:GREGORIAN
BEGIN:VEVENT
DTSTART:20090730T233000Z
DTEND:20090731T010000Z
X-MICROSOFT-CDO-ALLDAYEVENT:FALSE
SUMMARY:Business After Hours
DESCRIPTION:Business After HoursThursday\, July 30\, 20095:30-7:00 pmNew Zions Bank Location\nGreat networking opportunity\, bring your business card to enter in the drawing for prizes. If you would like\, please bring a prize\, something to help promote your business.We hope you will attend to make this event successful.
X-ALT-DESC;FMTTYPE=text/html:<div><p align="center"><font face="Arial" style="font-size: 9pt"><font face="Arial" style="font-size: 9pt"><font face="Arial" style="font-size: 9pt"><font face="Arial" size="4" style="font-size: 9pt"><strong><font color="#ff0000" size="4">Business After Hours</font></strong></font></font></font></font></p><div align="center"><strong><font size="4">Thursday\,&nbsp\;July 30\, 2009</font></strong></div><div align="center"><strong><font color="#ff0000" size="4">5:30-7:00 pm</font></strong></div><div align="center"><font size="4"><span style="font-weight: bold">New Zions Bank Location</span></font><font size="4"><br /><strong>Great networking opportunity\, bring your business card </strong></font></div><div align="center"><strong><font size="4">to enter in the drawing for prizes. </font></strong></div><div align="center"><strong><font size="4">If you would like\, please bring a prize\, </font></strong></div><div align="center"><strong><font size="4">something to help&nbsp\;promote your business.</font></strong></div><div align="center"><strong><font size="4">We hope you will&nbsp\;attend to make this event successful.</font></strong></div></div>
LOCATION:
UID:e.125.2541
SEQUENCE:3
DTSTAMP:20260423T211825Z
URL:https://members.tooelechamber.com/events/details/business-after-hours-07-30-2009-2541
END:VEVENT

END:VCALENDAR
