BEGIN:VCALENDAR
VERSION:2.0
PRODID:-//ChamberMaster//Event Calendar 2.0//EN
METHOD:PUBLISH
X-PUBLISHED-TTL:P3D
REFRESH-INTERVAL:P3D
CALSCALE:GREGORIAN
BEGIN:VEVENT
DTSTART:20080807T233000Z
DTEND:20080808T010000Z
X-MICROSOFT-CDO-ALLDAYEVENT:FALSE
SUMMARY:Business After Hours
DESCRIPTION:July 31st date has been canceled due to the opening of the Tooele County Fair New date is August 7th\, 2008Location: Tracks Brewery\, 1641 No. Main\, Tooele\n Time: 5:30 pm to 7 pm
X-ALT-DESC;FMTTYPE=text/html:<div>&nbsp\;</div><div align="center"><strong><font size="3"><font style="background-color: #ffffff" color="#ff0000">July 31st date has been canceled</font> </font></strong></div><div align="center"><strong><font size="3">due to the opening of the Tooele County Fair</font></strong></div><div align="center">&nbsp\;</div><div align="center"><strong><font color="#ff0000" size="3">New date is August 7th\, 2008</font></strong></div><div align="center"><strong><font size="3">Location: Tracks Brewery\, 1641 No. Main\, Tooele<br />&nbsp\;Time: 5:30 pm to 7 pm</font></strong></div>
LOCATION:
UID:e.125.420
SEQUENCE:3
DTSTAMP:20260424T140927Z
URL:https://members.tooelechamber.com/events/details/business-after-hours-08-07-2008-420
END:VEVENT

END:VCALENDAR
