BEGIN:VCALENDAR
VERSION:2.0
PRODID:-//ChamberMaster//Event Calendar 2.0//EN
METHOD:PUBLISH
X-PUBLISHED-TTL:P3D
REFRESH-INTERVAL:P3D
CALSCALE:GREGORIAN
BEGIN:VEVENT
DTSTART:20090827T233000Z
DTEND:20090828T010000Z
X-MICROSOFT-CDO-ALLDAYEVENT:FALSE
SUMMARY:Business After Hours
DESCRIPTION:Business After HoursThursday\, August 27th 5:30- 7 pmTooele County Community Resource Center38 South Main Street\, TooeleNo charge for this eventGreat Networking Opportunitybring your business card to enter in the drawing for prizes. If you would like\, please bring a prize\, something to help promote your business.
X-ALT-DESC;FMTTYPE=text/html:<div>&nbsp\;<font face="Arial" size="2"><font face="Times New Roman" size="4"><div align="center"><u><b>Business After Hours</b></u></div><div align="center">Thursday\, August 27th 5:30- 7 pm</div><div align="center">Tooele County Community Resource Center</div><div align="center">38 South Main Street\, Tooele</div><div align="center">No charge for this event</div><div align="center">Great Networking Opportunity</div><div align="center">bring your business card to enter in the drawing for prizes. If you would like\, please bring a prize\, something to help promote your business.</div><div align="center">&nbsp\;</div></font></font></div>
LOCATION:
UID:e.125.2569
SEQUENCE:3
DTSTAMP:20260423T181702Z
URL:https://members.tooelechamber.com/events/details/business-after-hours-08-27-2009-2569
END:VEVENT

END:VCALENDAR
