BEGIN:VCALENDAR
VERSION:2.0
PRODID:-//ChamberMaster//Event Calendar 2.0//EN
METHOD:PUBLISH
X-PUBLISHED-TTL:P3D
REFRESH-INTERVAL:P3D
CALSCALE:GREGORIAN
BEGIN:VEVENT
DTSTART:20100916T233000Z
DTEND:20100917T010000Z
X-MICROSOFT-CDO-ALLDAYEVENT:FALSE
SUMMARY:Business After Hours
DESCRIPTION:Business After HoursThursday\,  September 16th - 5:30- 7 pm Spine & Posture Rehabilitation of TooeleDr. Cole SnyderDr. Matthew Peterson134 West 1180 North  Ste 5Tooele\, UT\n Great Networking Opportunity \nNo Charge for this Event!Bring your business card and enter to win a prize. If you would like\,please bring a promotional item from your company to give away as a prize
X-ALT-DESC;FMTTYPE=text/html:<div><div><p class="MsoNormal" align="center" style="text-align: center\; margin: 0in 0in 0pt"><u><span style="font-size: medium"><b><span style="color: black\; mso-fareast-font-family: &rsquo\;Times New Roman&rsquo\;"><font face="Times New Roman">Business After Hours</font></span></b></span></u></p><u1:p></u1:p><p class="MsoNormal" align="center" style="text-align: center\; margin: 0in 0in 0pt"><b><span style="color: black\; mso-fareast-font-family: &rsquo\;Times New Roman&rsquo\;"><font size="3"><font face="Times New Roman">Thursday\,&nbsp\;&nbsp\;September&nbsp\;16th - 5:30- 7 pm <u1:p></u1:p></font></font></span></b></p><p class="MsoNormal" align="center" style="text-align: center\; margin: 0in 0in 0pt"><b><span style="color: black\; mso-fareast-font-family: &rsquo\;Times New Roman&rsquo\;"><font size="3" face="Times New Roman">Spine &amp\; Posture Rehabilitation of Tooele</font></span></b></p><p class="MsoNormal" align="center" style="text-align: center\; margin: 0in 0in 0pt"><b><span style="color: black\; mso-fareast-font-family: &rsquo\;Times New Roman&rsquo\;"><font size="3" face="Times New Roman">Dr. Cole Snyder</font></span></b></p><p class="MsoNormal" align="center" style="text-align: center\; margin: 0in 0in 0pt"><b><span style="color: black\; mso-fareast-font-family: &rsquo\;Times New Roman&rsquo\;"><font size="3" face="Times New Roman">Dr. Matthew Peterson</font></span></b></p><p class="MsoNormal" align="center" style="text-align: center\; margin: 0in 0in 0pt"><b><span style="color: black\; mso-fareast-font-family: &rsquo\;Times New Roman&rsquo\;"><font size="3" face="Times New Roman">134 West 1180 North&nbsp\; Ste 5</font></span></b></p><p class="MsoNormal" align="center" style="text-align: center\; margin: 0in 0in 0pt"><b><span style="color: black\; mso-fareast-font-family: &rsquo\;Times New Roman&rsquo\;"><font size="3" face="Times New Roman">Tooele\, UT</font></span></b><b><span style="color: black\; mso-fareast-font-family: &rsquo\;Times New Roman&rsquo\;"><font size="3" face="Times New Roman"><br />&nbsp\;Great Networking Opportunity <br />No Charge for this Event!</font></span></b></p><u1:p></u1:p><p class="MsoNormal" align="center" style="text-align: center\; margin: 0in 0in 0pt"><b><span style="color: black\; mso-fareast-font-family: &rsquo\;Times New Roman&rsquo\;"><font size="3" face="Times New Roman">Bring your business card and enter to win a prize. If you would like\,</font></span></b></p><u1:p></u1:p><p class="MsoNormal" align="center" style="text-align: center\; margin: 0in 0in 0pt"><b><span style="color: black\; mso-fareast-font-family: &rsquo\;Times New Roman&rsquo\;"><font size="3" face="Times New Roman">please bring a promotional item from your company to give away as a prize</font></span></b><o:p></o:p></p><u1:p></u1:p><u1:p></u1:p></div></div>
LOCATION:
UID:e.125.3232
SEQUENCE:3
DTSTAMP:20260422T220035Z
URL:https://members.tooelechamber.com/events/details/business-after-hours-09-16-2010-3232
END:VEVENT

END:VCALENDAR
