BEGIN:VCALENDAR
VERSION:2.0
PRODID:-//ChamberMaster//Event Calendar 2.0//EN
METHOD:PUBLISH
X-PUBLISHED-TTL:P3D
REFRESH-INTERVAL:P3D
CALSCALE:GREGORIAN
BEGIN:VEVENT
DTSTART:20080925T233000Z
DTEND:20080926T010000Z
X-MICROSOFT-CDO-ALLDAYEVENT:FALSE
SUMMARY:Business After Hours
DESCRIPTION:Location: Factory Flooring Direct\, 7666 No. Hwy 36\, Lakepoint\n Time: 5:30 pm to 7 pm
X-ALT-DESC;FMTTYPE=text/html:<div><strong>Location: Factory Flooring Direct\, 7666 No. Hwy 36\, Lakepoint<br />&nbsp\;Time: 5:30 pm to 7 pm</strong></div>
LOCATION:
UID:e.125.422
SEQUENCE:3
DTSTAMP:20260424T122646Z
URL:https://members.tooelechamber.com/events/details/business-after-hours-09-25-2008-422
END:VEVENT

END:VCALENDAR
