BEGIN:VCALENDAR
VERSION:2.0
PRODID:-//ChamberMaster//Event Calendar 2.0//EN
METHOD:PUBLISH
X-PUBLISHED-TTL:P3D
REFRESH-INTERVAL:P3D
CALSCALE:GREGORIAN
BEGIN:VEVENT
DTSTART:20120927T233000Z
DTEND:20120928T010000Z
X-MICROSOFT-CDO-ALLDAYEVENT:FALSE
SUMMARY:Business After Hours
DESCRIPTION:Business After Hours\n\nThursday Sept 27\, 2012 5:30 - 7:00 p.m.\n\nHosted by Elizabeth  Catering @ Richards BBQ\n\n196 West Main Street Grantsville Utah 84029  Gransvill                      fsdfasdfasdfa afsdfaf asdfasdfasdfadfad
X-ALT-DESC;FMTTYPE=text/html:<span style="font-size: 18px"><strong>Business After Hours<br />\nThursday Sept 27\, 2012 5:30 - 7:00 p.m.<br />\nHosted by Elizabeth&nbsp\; Catering&nbsp\;@ Richards&nbsp\;BBQ<br />\n196 West Main Street Grantsville Utah 84029</strong></span><span _fck_bookmark="1" style="display: none">&nbsp\; Gransvill&nbsp\;&nbsp\;&nbsp\;&nbsp\;&nbsp\;&nbsp\;&nbsp\;&nbsp\;&nbsp\;&nbsp\;&nbsp\;&nbsp\;&nbsp\;&nbsp\;&nbsp\;&nbsp\;&nbsp\;&nbsp\;&nbsp\;&nbsp\;&nbsp\; fsdfasdfasdfa afsdfaf asdfasdfasdfadfad</span>
LOCATION:
UID:e.125.4664
SEQUENCE:3
DTSTAMP:20260421T071025Z
URL:https://members.tooelechamber.com/events/details/business-after-hours-09-27-2012-4664
END:VEVENT

END:VCALENDAR
