BEGIN:VCALENDAR
VERSION:2.0
PRODID:-//ChamberMaster//Event Calendar 2.0//EN
METHOD:PUBLISH
X-PUBLISHED-TTL:P3D
REFRESH-INTERVAL:P3D
CALSCALE:GREGORIAN
BEGIN:VEVENT
DTSTART:20091022T233000Z
DTEND:20091023T010000Z
X-MICROSOFT-CDO-ALLDAYEVENT:FALSE
SUMMARY:Business After Hours
DESCRIPTION:Business After HoursSponsor: Cold Stone Creamery
X-ALT-DESC;FMTTYPE=text/html:<div><p class="MsoNormal" style="margin: 0in 0in 0pt"><b style="mso-bidi-font-weight: normal"><font size="3"><font face="Times New Roman">Business After Hours<o:p></o:p></font></font></b></p><p class="MsoNormal" style="margin: 0in 0in 0pt"><font face="Times New Roman" size="3">Sponsor: Cold Stone Creamery</font></p><p class="MsoNormal" style="margin: 0in 0in 0pt">&nbsp\;</p><p class="MsoNormal" style="margin: 0in 0in 0pt">&nbsp\;</p></div>
LOCATION:Place: 1197 No. Main Suite E \, Tooele
UID:e.125.2577
SEQUENCE:3
DTSTAMP:20260423T163611Z
URL:https://members.tooelechamber.com/events/details/business-after-hours-10-22-2009-2577
END:VEVENT

END:VCALENDAR
