BEGIN:VCALENDAR
VERSION:2.0
PRODID:-//ChamberMaster//Event Calendar 2.0//EN
METHOD:PUBLISH
X-PUBLISHED-TTL:P3D
REFRESH-INTERVAL:P3D
CALSCALE:GREGORIAN
BEGIN:VEVENT
DTSTART:20081023T233000Z
DTEND:20081024T010000Z
X-MICROSOFT-CDO-ALLDAYEVENT:FALSE
SUMMARY:Business After Hours
DESCRIPTION:Business After HoursLocation: Miller Motorsports Park\, 2901 No. Sheep Lane\, Tooele\nTime: 5:30 pm to 7 pmGreat Networking OpportunityNo cost for this event!435-882-0690
X-ALT-DESC;FMTTYPE=text/html:<div>&nbsp\;</div><div align="center"><strong><font size="4">Business After Hours</font></strong></div><div align="center"><strong><font size="4">Location: Miller Motorsports Park\, 2901 No. Sheep Lane\, Tooele<br />Time: 5:30 pm to 7 pm</font></strong></div><div align="center"><strong><font size="4">Great Networking Opportunity</font></strong></div><div align="center"><strong><font size="4">No cost for this event!</font></strong></div><div align="center"><strong><font size="4">435-882-0690</font></strong></div>
LOCATION:
UID:e.125.423
SEQUENCE:3
DTSTAMP:20260424T122635Z
URL:https://members.tooelechamber.com/events/details/business-after-hours-10-23-2008-423
END:VEVENT

END:VCALENDAR
