BEGIN:VCALENDAR
VERSION:2.0
PRODID:-//ChamberMaster//Event Calendar 2.0//EN
METHOD:PUBLISH
X-PUBLISHED-TTL:P3D
REFRESH-INTERVAL:P3D
CALSCALE:GREGORIAN
BEGIN:VEVENT
DTSTART:20121025T233000Z
DTEND:20121026T010000Z
X-MICROSOFT-CDO-ALLDAYEVENT:FALSE
SUMMARY:Business After Hours
DESCRIPTION:Business After Hours\n\n	Thursday\, October 25th\, 2012\n\n	@5:30pm-7:00pm\n\n	Hosted by: The Curtis \n\n	Foundation\n\n	@Chamber Building \n\n	154 South Main Street\, Tooele\n\n	 \n\n	Click here to edit...
X-ALT-DESC;FMTTYPE=text/html:<div style="color: gray">\n	&nbsp\;<span style="font-weight: bold\; text-decoration: underline\; text-underline: single\; language: en-us"><span style="font-size: 16pt"><span style="color: blue"><span style="font-family: arial">Business After Hours</span></span></span></span><br />\n	<span style="language: en-us"><span style="font-size: 16pt"><span style="font-family: arial">Thursday\, October 25th\, 2012</span></span></span><br />\n	<span style="language: en-us"><span style="font-size: 16pt"><span style="font-family: arial">@5:30pm-7:00pm</span></span></span><br />\n	<span style="language: en-us"><span style="font-size: 16pt"><span style="font-family: arial">Hosted by: The Curtis </span></span></span><br />\n	<span style="language: en-us"><span style="font-size: 16pt"><span style="font-family: arial">Foundation</span></span></span><br />\n	<span style="language: en-us"><span style="font-size: 16pt"><span style="font-family: arial">@Chamber Building </span></span></span><br />\n	<span style="language: en-us"><span style="font-size: 16pt"><span style="font-family: arial">154 South Main Street\, Tooele</span></span></span><br />\n	&nbsp\;<br />\n	Click here to edit...</div>\n
LOCATION:
UID:e.125.4667
SEQUENCE:3
DTSTAMP:20260421T052140Z
URL:https://members.tooelechamber.com/events/details/business-after-hours-10-25-2012-4667
END:VEVENT

END:VCALENDAR
