BEGIN:VCALENDAR
VERSION:2.0
PRODID:-//ChamberMaster//Event Calendar 2.0//EN
METHOD:PUBLISH
X-PUBLISHED-TTL:P3D
REFRESH-INTERVAL:P3D
CALSCALE:GREGORIAN
BEGIN:VEVENT
DTSTART:20111027T233000Z
DTEND:20111028T010000Z
X-MICROSOFT-CDO-ALLDAYEVENT:FALSE
SUMMARY:Business After Hours
DESCRIPTION:Business After Hours\n\n	Thursday October 27\, 2011  5:30pm-7pm\n\n	Host: Alpine Academy\n\n	Location: 1280 Whispering Horse Drive in Erda
X-ALT-DESC;FMTTYPE=text/html:<p style="text-align: center">\n	<span style="font-size: 22px"><span style="font-family: comic sans ms">Business After Hours<br />\n	Thursday October 27\, 2011&nbsp\; 5:30pm-7pm<br />\n	Host: Alpine Academy<br />\n	Location: 1280 Whispering Horse Drive in Erda</span><br />\n	<br />\n	&nbsp\;</span></p>\n
LOCATION:
UID:e.125.3883
SEQUENCE:3
DTSTAMP:20260422T012010Z
URL:https://members.tooelechamber.com/events/details/business-after-hours-10-27-2011-3883
END:VEVENT

END:VCALENDAR
