BEGIN:VCALENDAR
VERSION:2.0
PRODID:-//ChamberMaster//Event Calendar 2.0//EN
METHOD:PUBLISH
X-PUBLISHED-TTL:P3D
REFRESH-INTERVAL:P3D
CALSCALE:GREGORIAN
BEGIN:VEVENT
DTSTART:20101028T233000Z
DTEND:20101029T010000Z
X-MICROSOFT-CDO-ALLDAYEVENT:FALSE
SUMMARY:Business After Hours
DESCRIPTION:Business After Hours \n\n	Thursday\, October 28th from 5:30-7pm\n\n	Host: Willow Creek Lending\n\n	822 East Main Street Ste 1\, Grantsville\n\n	GREAT networking opportunity!\n\n	NO CHARGE for this event!!\n\n	Please bring a business card to be entered into the drawing and/or bring a promotional item from your business to be used as a prize.
X-ALT-DESC;FMTTYPE=text/html:<p style="text-align: center">\n	<span style="font-size: 22px"><strong><u>Business After Hours </u></strong><br />\n	Thursday\, October 28th from 5:30-7pm<br />\n	Host: Willow Creek Lending<br />\n	822 East Main Street Ste 1\, Grantsville<br />\n	GREAT networking opportunity!<br />\n	NO CHARGE for this event!!<br />\n	Please bring a business card to be entered into&nbsp\;the drawing and/or bring a promotional item from your business to be used as a prize. </span></p>\n
LOCATION:
UID:e.125.3263
SEQUENCE:3
DTSTAMP:20260422T215841Z
URL:https://members.tooelechamber.com/events/details/business-after-hours-10-28-2010-3263
END:VEVENT

END:VCALENDAR
