BEGIN:VCALENDAR
VERSION:2.0
PRODID:-//ChamberMaster//Event Calendar 2.0//EN
METHOD:PUBLISH
X-PUBLISHED-TTL:P3D
REFRESH-INTERVAL:P3D
CALSCALE:GREGORIAN
BEGIN:VEVENT
DTSTART:20111118T003000Z
DTEND:20111118T020000Z
X-MICROSOFT-CDO-ALLDAYEVENT:FALSE
SUMMARY:Business After Hours
DESCRIPTION:Business After Hours \n\n	Thursday\, November 17\, 2011 from 5:30-7pm\n\n	Host: All-Tech Electric\n\n	318 South 1200 West\, Tooele
X-ALT-DESC;FMTTYPE=text/html:<p style="text-align: center">\n	<span style="font-size: 28px"><u><strong>Business After Hours </strong></u><br />\n	Thursday\, November 17\, 2011 from 5:30-7pm<br />\n	Host: All-Tech Electric<br />\n	318 South 1200 West\, Tooele </span></p>\n
LOCATION:
UID:e.125.3890
SEQUENCE:3
DTSTAMP:20260421T233423Z
URL:https://members.tooelechamber.com/events/details/business-after-hours-11-17-2011-3890
END:VEVENT

END:VCALENDAR
