BEGIN:VCALENDAR
VERSION:2.0
PRODID:-//ChamberMaster//Event Calendar 2.0//EN
METHOD:PUBLISH
X-PUBLISHED-TTL:P3D
REFRESH-INTERVAL:P3D
CALSCALE:GREGORIAN
BEGIN:VEVENT
DTSTART:20140529T233000Z
DTEND:20140530T010000Z
X-MICROSOFT-CDO-ALLDAYEVENT:FALSE
SUMMARY:Business After Hours- Jumpin Jack Splash
DESCRIPTION:Business After Hours-\n\nJumpin Jack Splash\n\nThursday\, May 29th\, 2014\n\n5:30pm-7:00pm\n\n154 South Main Street\, Tooele
X-ALT-DESC;FMTTYPE=text/html:<span style="color:#800080\;"><span style="font-size:26px\;"><span style="font-family:comic sans ms\;"><strong>Business After Hours-<br />\nJumpin Jack Splash<br />\nThursday\, May 29th\, 2014<br />\n5:30pm-7:00pm<br />\n154 South Main Street\, Tooele&nbsp\;</strong></span></span></span>
LOCATION:
UID:e.125.5067
SEQUENCE:3
DTSTAMP:20260419T182228Z
URL:https://members.tooelechamber.com/events/details/business-after-hours-jumpin-jack-splash-05-29-2014-5067
END:VEVENT

END:VCALENDAR
