BEGIN:VCALENDAR
VERSION:2.0
PRODID:-//ChamberMaster//Event Calendar 2.0//EN
METHOD:PUBLISH
X-PUBLISHED-TTL:P3D
REFRESH-INTERVAL:P3D
CALSCALE:GREGORIAN
BEGIN:VEVENT
DTSTART:20080327T233000Z
DTEND:20080327T233000Z
X-MICROSOFT-CDO-ALLDAYEVENT:FALSE
SUMMARY:Business After Hours-Tooele County Board of Realtors
DESCRIPTION:Business After Hours is a networking event that consistently gathers business professionals each month. It takes place at various Chamber member businesses the last Thursday of each month\, from 5:30-7:00 p.m. Business After Hours is characterized by a lively crowd\, refreshments and hors d' oeuvres in a casual atmosphere. It also provides an opportunity to increase referral networks\, increase name recognition\, gain visibility and strengthen relationship skills. Bring a gift for a prize give-a-way!  Great way to promote your business!
X-ALT-DESC;FMTTYPE=text/html:<div><span style="font-weight: bold"><div><font size="5"><font size="3">Business After Hours is a networking event that consistently gathers business professionals each month. It takes place at various Chamber member businesses the last Thursday of each month\, from 5:30-7:00 p.m. Business After Hours is characterized by a lively crowd\, refreshments and hors d&rsquo\; oeuvres in a casual atmosphere. It also provides an opportunity to increase referral networks\, increase name recognition\, gain visibility and strengthen relationship skills.</font> </font></div><div><font size="5">Bring a gift for a prize give-a-way!&nbsp\; Great way to promote your business!</font></div></span></div>
LOCATION:This event will be held at Tooele County Board of Realtors36 North Main Street\, #7\, Tooele.
UID:e.125.236
SEQUENCE:3
DTSTAMP:20260424T221422Z
URL:https://members.tooelechamber.com/events/details/business-after-hours-tooele-county-board-of-realtors-03-27-2008-236
END:VEVENT

END:VCALENDAR
