BEGIN:VCALENDAR
VERSION:2.0
PRODID:-//ChamberMaster//Event Calendar 2.0//EN
METHOD:PUBLISH
X-PUBLISHED-TTL:P3D
REFRESH-INTERVAL:P3D
CALSCALE:GREGORIAN
BEGIN:VEVENT
DTSTART;VALUE=DATE:20110914
DTEND;VALUE=DATE:20110915
TRANSP:TRANSPARENT
X-MICROSOFT-CDO-ALLDAYEVENT:TRUE
SUMMARY:Business Expo
DESCRIPTION:Tooele County Chamber of Commerce \n\n	Annual Business Expo
X-ALT-DESC;FMTTYPE=text/html:<p style="text-align: center">\n	<span style="font-size: 20px">Tooele County Chamber of Commerce&nbsp\;<br />\n	Annual Business Expo </span></p>\n
LOCATION:Tooele City Park\, corner of Vine Street and 200 West Next to the Pratt Aquatic Center
UID:e.125.3568
SEQUENCE:3
DTSTAMP:20260422T043704Z
URL:https://members.tooelechamber.com/events/details/business-expo-09-14-2011-3568
END:VEVENT

END:VCALENDAR
