BEGIN:VCALENDAR
VERSION:2.0
PRODID:-//ChamberMaster//Event Calendar 2.0//EN
METHOD:PUBLISH
X-PUBLISHED-TTL:P3D
REFRESH-INTERVAL:P3D
CALSCALE:GREGORIAN
BEGIN:VEVENT
DTSTART;VALUE=DATE:20100908
DTEND;VALUE=DATE:20100909
TRANSP:TRANSPARENT
X-MICROSOFT-CDO-ALLDAYEVENT:TRUE
SUMMARY:Business Expo/Taste of Tooele
DESCRIPTION:Tooele County Chamber of Commerce 7th Annual Business Open House &Taste of Tooele Wednesday\, September 8\, 2010 from 3-7pm Tooele City Park 200 West Vine StreetThis event allows businesses to showcase their products and services to other businesses and to the communtiy. This is a GREAT opportunity to get the word out about your business. For more info or you would like to participate\, contact the Chamber Office at (435)882-0690
X-ALT-DESC;FMTTYPE=text/html:<div style="text-align: center"><span style="font-size: large"><span style="font-family: Times New Roman">Tooele County Chamber of Commerce 7th Annual </span></span></div><div style="text-align: center"><span style="font-size: large"><span style="font-family: Times New Roman">Business&nbsp\;Open House &amp\;</span></span></div><div style="text-align: center"><span style="font-size: large"><span style="font-family: Times New Roman">Taste of Tooele </span></span></div><div style="text-align: center"><span style="font-size: large"><span style="font-family: Times New Roman">Wednesday\, September 8\, 2010 from 3-7pm </span></span></div><div style="text-align: center"><span style="font-size: large"><span style="font-family: Times New Roman">Tooele City Park </span></span></div><div style="text-align: center"><span style="font-size: large"><span style="font-family: Times New Roman">200 West Vine Street</span></span></div><div style="text-align: center"><span style="font-size: large"><span style="font-family: Times New Roman">This event allows businesses to showcase their products and services to other businesses and to the communtiy. This is a GREAT opportunity to </span></span></div><div style="text-align: center"><span style="font-size: large"><span style="font-family: Times New Roman">get the word out about your business. </span></span></div><div style="text-align: center"><span style="font-size: large"><span style="font-family: Times New Roman">For more info or you would like to participate\, </span></span></div><div style="text-align: center"><span style="font-size: large"><span style="font-family: Times New Roman">contact the Chamber Office at (435)882-0690</span></span></div><div>&nbsp\;</div>
LOCATION:
UID:e.125.508
SEQUENCE:3
DTSTAMP:20260422T220348Z
URL:https://members.tooelechamber.com/events/details/business-expo-taste-of-tooele-09-08-2010-508
END:VEVENT

END:VCALENDAR
