BEGIN:VCALENDAR
VERSION:2.0
PRODID:-//ChamberMaster//Event Calendar 2.0//EN
METHOD:PUBLISH
X-PUBLISHED-TTL:P3D
REFRESH-INTERVAL:P3D
CALSCALE:GREGORIAN
BEGIN:VEVENT
DTSTART:20110419T180000Z
DTEND:20110419T190000Z
X-MICROSOFT-CDO-ALLDAYEVENT:FALSE
SUMMARY:Business Networking
DESCRIPTION:Tooele County Business Resource Center Presents the next in the \n\n	Community Business Education Series for 2011\n\n	Business Networking  "it's not what you know\, it's who you know"\n\n	April 19th @ 12pm and April 20th @ 7pm lunch/hors d'oeuvres will be served \n\n	USU Tooele Campus 1021 West Vine Street\, Tooele\, Room 159\n\n	For more information\, contact Ryan Murray 435-843-3129 or rmurray@co.tooele.ut.us\n\n	FREE and open to the public!!
X-ALT-DESC;FMTTYPE=text/html:&nbsp\;\n<p class="MsoNormal" style="text-align: center\; margin-bottom: 0pt\; mso-pagination: none">\n	<span lang="en-US" style="font-style: italic\; font-family: 'californian fb'\; font-size: 12pt\; font-weight: bold\; mso-default-font-family: 'californian fb'\; mso-ascii-font-family: 'californian fb'\; mso-latin-font-family: 'californian fb'\; language: en-us\; mso-ansi-language: en-us">Tooele County Business Resource Center Presents the next in the <o:p></o:p></span></p>\n<p class="MsoNormal" style="text-align: center\; margin-bottom: 0pt\; mso-pagination: none">\n	<span lang="en-US" style="font-style: italic\; font-family: 'californian fb'\; font-size: 12pt\; font-weight: bold\; mso-default-font-family: 'californian fb'\; mso-ascii-font-family: 'californian fb'\; mso-latin-font-family: 'californian fb'\; language: en-us\; mso-ansi-language: en-us">Community Business Education Series for 2011<o:p></o:p></span></p>\n<p class="MsoNormal" style="text-align: center\; margin-bottom: 0pt\; mso-pagination: none">\n	<span lang="en-US" style="font-family: 'californian fb'\; font-size: 10pt\; mso-default-font-family: 'californian fb'\; mso-ascii-font-family: 'californian fb'\; mso-latin-font-family: 'californian fb'\; language: en-us\; mso-ansi-language: en-us">Business Networking&mdash\; &ldquo\;it&rsquo\;s not what you know\, it&rsquo\;s who you know&rdquo\;<o:p></o:p></span></p>\n<p class="MsoNormal" style="text-align: center\; margin-bottom: 0pt\; mso-pagination: none">\n	<span lang="en-US" style="font-family: 'californian fb'\; font-size: 10pt\; mso-default-font-family: 'californian fb'\; mso-ascii-font-family: 'californian fb'\; mso-latin-font-family: 'californian fb'\; language: en-us\; mso-ansi-language: en-us">April 19th @ 12pm and April 20th @ 7pm lunch/hors d&rsquo\;oeuvres will be served <o:p></o:p></span></p>\n<p class="MsoNormal" style="text-align: center\; margin-bottom: 0pt\; mso-pagination: none">\n	<span lang="en-US" style="font-family: 'californian fb'\; font-size: 10pt\; mso-default-font-family: 'californian fb'\; mso-ascii-font-family: 'californian fb'\; mso-latin-font-family: 'californian fb'\; language: en-us\; mso-ansi-language: en-us">USU Tooele Campus 1021 West Vine Street\, Tooele\, Room 159<o:p></o:p></span></p>\n<p class="MsoNormal" style="text-align: center\; margin-bottom: 0pt\; mso-pagination: none">\n	<span lang="en-US" style="font-family: 'californian fb'\; font-size: 10pt\; mso-default-font-family: 'californian fb'\; mso-ascii-font-family: 'californian fb'\; mso-latin-font-family: 'californian fb'\; language: en-us\; mso-ansi-language: en-us">For more information\, contact Ryan Murray 435-843-3129 or rmurray@co.tooele.ut.us<o:p></o:p></span></p>\n<p class="MsoNormal" style="text-align: center\; margin-bottom: 0pt\; mso-pagination: none">\n	<span lang="en-US" style="font-family: 'californian fb'\; font-size: 10pt\; mso-default-font-family: 'californian fb'\; mso-ascii-font-family: 'californian fb'\; mso-latin-font-family: 'californian fb'\; language: en-us\; mso-ansi-language: en-us">FREE and open to the public!!</span><span lang="en-US" style="font-family: 'californian fb'\; font-size: 10pt\; mso-default-font-family: 'californian fb'\; mso-ascii-font-family: 'californian fb'\; mso-latin-font-family: 'californian fb'\; language: en-us"><o:p></o:p></span></p>\n<p class="MsoNormal" style="mso-pagination: none">\n	<span lang="en-US" style="language: en-us">&nbsp\;<span _fck_bookmark="1" style="display: none">&nbsp\;</span><o:p></o:p></span></p>\n
LOCATION:
UID:e.125.3677
SEQUENCE:3
DTSTAMP:20260422T104105Z
URL:https://members.tooelechamber.com/events/details/business-networking-04-19-2011-3677
END:VEVENT

END:VCALENDAR
