BEGIN:VCALENDAR
VERSION:2.0
PRODID:-//ChamberMaster//Event Calendar 2.0//EN
METHOD:PUBLISH
X-PUBLISHED-TTL:P3D
REFRESH-INTERVAL:P3D
CALSCALE:GREGORIAN
BEGIN:VEVENT
DTSTART:20080517T140000Z
DTEND:20080517T180000Z
X-MICROSOFT-CDO-ALLDAYEVENT:FALSE
SUMMARY:Camp and Sports Physicals for Kids
DESCRIPTION:University Health Care-Stansbury Health Center is offering\n\nCamp physicals for kids   $20  and\n\nSports Physicals $30
X-ALT-DESC;FMTTYPE=text/html:<div align="center"><font size="5">University Health Care-Stansbury Health Center is offering</font></div>\n\n<div align="center"><font size="5">Camp physicals for kids&nbsp\;&nbsp\; $20&nbsp\; and</font></div>\n\n<div align="center"><font size="5">Sports Physicals $30</font></div>\n\n<div>&nbsp\;</div>\n\n<div>&nbsp\;</div>\n
LOCATION:Stansbury Health Center 220 Millpond Road #100 Stansbury Park\, UT
UID:e.125.429
SEQUENCE:3
DTSTAMP:20260424T202046Z
URL:https://members.tooelechamber.com/events/details/camp-and-sports-physicals-for-kids-05-17-2008-429
END:VEVENT

END:VCALENDAR
