BEGIN:VCALENDAR
VERSION:2.0
PRODID:-//ChamberMaster//Event Calendar 2.0//EN
METHOD:PUBLISH
X-PUBLISHED-TTL:P3D
REFRESH-INTERVAL:P3D
CALSCALE:GREGORIAN
BEGIN:VEVENT
DTSTART:20080531T140000Z
DTEND:20080531T180000Z
X-MICROSOFT-CDO-ALLDAYEVENT:FALSE
SUMMARY:Camp and Sports Physicals for Kids
DESCRIPTION:University Health Care-Stansbury Health Center is offeringCamp physicals for kids   $20  andSports Physicals $30
X-ALT-DESC;FMTTYPE=text/html:<div align="center"><font size="5">University Health Care-Stansbury Health Center is offering</font></div><div align="center"><font size="5">Camp physicals for kids&nbsp\;&nbsp\; $20&nbsp\; and</font></div><div align="center"><font size="5">Sports Physicals $30</font></div><div>&nbsp\;</div><div>&nbsp\;</div>
LOCATION:Stansbury Health Center220 Millpond Road #100Stansbury Park\, UT
UID:e.125.430
SEQUENCE:3
DTSTAMP:20260424T185535Z
URL:https://members.tooelechamber.com/events/details/camp-and-sports-physicals-for-kids-05-31-2008-430
END:VEVENT

END:VCALENDAR
