BEGIN:VCALENDAR
VERSION:2.0
PRODID:-//ChamberMaster//Event Calendar 2.0//EN
METHOD:PUBLISH
X-PUBLISHED-TTL:P3D
REFRESH-INTERVAL:P3D
CALSCALE:GREGORIAN
BEGIN:VEVENT
DTSTART:20111012T180000Z
DTEND:20111012T190000Z
X-MICROSOFT-CDO-ALLDAYEVENT:FALSE
SUMMARY:Candidate's Luncheon
DESCRIPTION:Candidate's Luncheon \n\n	Wednesday\, October 12\, 2011 from 12-1pm\n\n	Sponsor: EnergySolutions\n\n	Deseret Peak Convention Center\n\n	2930 West Hwy 112\, Tooele\n\n	$10 Members\, $15 Non-members\n\n	RSVP REQUIRED BY: Monday\, October 10th by 5pm\n\n	Chamber Office 435-882-0690
X-ALT-DESC;FMTTYPE=text/html:<p style="text-align: center">\n	<span style="font-family: verdana"><span style="font-size: 22px"><u><strong>Candidate&#39\;s Luncheon </strong></u><br />\n	Wednesday\, October 12\, 2011 from 12-1pm<br />\n	Sponsor: EnergySolutions<br />\n	Deseret Peak Convention Center<br />\n	2930 West Hwy 112\, Tooele<br />\n	$10 Members\, $15 Non-members<br />\n	RSVP REQUIRED BY: Monday\, October 10th by 5pm<br />\n	Chamber Office 435-882-0690</span></span></p>\n
LOCATION:
UID:e.125.3702
SEQUENCE:3
DTSTAMP:20260422T011328Z
URL:https://members.tooelechamber.com/events/details/candidate-s-luncheon-10-12-2011-3702
END:VEVENT

END:VCALENDAR
