BEGIN:VCALENDAR
VERSION:2.0
PRODID:-//ChamberMaster//Event Calendar 2.0//EN
METHOD:PUBLISH
X-PUBLISHED-TTL:P3D
REFRESH-INTERVAL:P3D
CALSCALE:GREGORIAN
BEGIN:VEVENT
DTSTART:20140418T200000Z
DTEND:20140419T000000Z
X-MICROSOFT-CDO-ALLDAYEVENT:FALSE
SUMMARY:Candy due for Egg Hunt
DESCRIPTION:Candy donations for Egg Hunt must be to one of the listed addresses by noon.  You will then receive the 'hunting license'  Do not leave candy on the doorsteps.
X-ALT-DESC;FMTTYPE=text/html:Candy donations for Egg Hunt must be to one of the listed addresses by noon.  You will then receive the 'hunting license'  Do not leave candy on the doorsteps.  \n
LOCATION:68 East Silver or 42 East Silver
UID:e.125.5652
SEQUENCE:3
DTSTAMP:20260419T200651Z
URL:https://members.tooelechamber.com/events/details/candy-due-for-egg-hunt-04-18-2014-5652
END:VEVENT

END:VCALENDAR
