BEGIN:VCALENDAR
VERSION:2.0
PRODID:-//ChamberMaster//Event Calendar 2.0//EN
METHOD:PUBLISH
X-PUBLISHED-TTL:P3D
REFRESH-INTERVAL:P3D
CALSCALE:GREGORIAN
BEGIN:VEVENT
DTSTART:20080815T230000Z
DTEND:20080816T040000Z
X-MICROSOFT-CDO-ALLDAYEVENT:FALSE
SUMMARY:Car Show & Street Dance
DESCRIPTION:August 15th- 5-10 pm \n Tooele Army Depot \n Hosted by The Eagles Nest For more information\n 435-833-5555
X-ALT-DESC;FMTTYPE=text/html:<p align="center">&nbsp\;<strong><a>&nbsp\;<font size="4">August 15th- 5-10 pm <br />&nbsp\;Tooele Army Depot <br />&nbsp\;Hosted by The Eagles Nest&nbsp\;</font></a></strong></p><p align="center"><strong><font size="4">For more information</font><a><br /><font size="4">&nbsp\;435-833-5555</font></a></strong></p>
LOCATION:
UID:e.125.454
SEQUENCE:3
DTSTAMP:20260424T141100Z
URL:https://members.tooelechamber.com/events/details/car-show-street-dance-08-15-2008-454
END:VEVENT

END:VCALENDAR
