BEGIN:VCALENDAR
VERSION:2.0
PRODID:-//ChamberMaster//Event Calendar 2.0//EN
METHOD:PUBLISH
X-PUBLISHED-TTL:P3D
REFRESH-INTERVAL:P3D
CALSCALE:GREGORIAN
BEGIN:VEVENT
DTSTART:20101013T180000Z
DTEND:20101013T193000Z
X-MICROSOFT-CDO-ALLDAYEVENT:FALSE
SUMMARY:Chamber Annual Candidate Luncheon
DESCRIPTION:Chamber Candidate's Luncheon \n\n	Wednesday\, October 13th from 12-1:30pm\n\n	Location: 2930 West Hwy 112\, Tooele\n\n	$10 for everyone in attendance\n\n	Please pay with cash\, or check at door\;\n\n	 no debit or credit cards\, thank you\n\n	Please RSVP Monday\, Oct. 11th by 5pm\n\n	Chamber Office 435-882-0690
X-ALT-DESC;FMTTYPE=text/html:<p style="text-align: center">\n	<span style="font-size: 24px"><strong><u>Chamber Candidate&#39\;s Luncheon </u></strong><br />\n	Wednesday\, October 13th from 12-1:30pm<br />\n	Location: 2930 West Hwy 112\, Tooele<br />\n	$10 for everyone in attendance<br />\n	Please pay with cash\, or check at door\;<br />\n	&nbsp\;no debit or credit cards\, thank you<br />\n	Please RSVP Monday\, Oct. 11th by 5pm<br />\n	Chamber Office 435-882-0690</span></p>\n
LOCATION:Deseret Peak Convention Center
UID:e.125.3243
SEQUENCE:3
DTSTAMP:20260422T220023Z
URL:https://members.tooelechamber.com/events/details/chamber-annual-candidate-luncheon-10-13-2010-3243
END:VEVENT

END:VCALENDAR
