BEGIN:VCALENDAR
VERSION:2.0
PRODID:-//ChamberMaster//Event Calendar 2.0//EN
METHOD:PUBLISH
X-PUBLISHED-TTL:P3D
REFRESH-INTERVAL:P3D
CALSCALE:GREGORIAN
BEGIN:VEVENT
DTSTART;VALUE=DATE:20110826
DTEND;VALUE=DATE:20110827
TRANSP:TRANSPARENT
X-MICROSOFT-CDO-ALLDAYEVENT:TRUE
SUMMARY:Chamber Annual Community BBQ
DESCRIPTION:Chamber Annual Community BBQ\n\n	Friday\, August 26\, 2011 from 6pm-7pm\n\n	Tooele City Park (corner of Vine and 200 West)\n\n	Hamburger or hotdog\, chips\, cookie and a drink for $1 or can of food\n\n	to be donated to local Food Bank\n\n	Chamber office 435-882-0690
X-ALT-DESC;FMTTYPE=text/html:<p style="text-align: center">\n	<span style="font-size: 24px"><span style="font-family: comic sans ms"><strong>Chamber Annual Community BBQ</strong><br />\n	Friday\, August 26\, 2011 from 6pm-7pm<br />\n	Tooele City Park (corner of Vine and 200 West)<br />\n	Hamburger or hotdog\, chips\, cookie and a drink for $1 or&nbsp\;can of food<br />\n	to be donated to local Food Bank<br />\n	Chamber office 435-882-0690</span></span><br />\n	&nbsp\;</p>\n
LOCATION:
UID:e.125.3566
SEQUENCE:3
DTSTAMP:20260422T043715Z
URL:https://members.tooelechamber.com/events/details/chamber-annual-community-bbq-08-26-2011-3566
END:VEVENT

END:VCALENDAR
