BEGIN:VCALENDAR
VERSION:2.0
PRODID:-//ChamberMaster//Event Calendar 2.0//EN
METHOD:PUBLISH
X-PUBLISHED-TTL:P3D
REFRESH-INTERVAL:P3D
CALSCALE:GREGORIAN
BEGIN:VEVENT
DTSTART;VALUE=DATE:20080613
DTEND;VALUE=DATE:20080614
TRANSP:TRANSPARENT
X-MICROSOFT-CDO-ALLDAYEVENT:TRUE
SUMMARY:Chamber Annual Golf Tournament
DESCRIPTION:Annual Golf TournamentPlease see our website www.2wheelah.com for Information and registration forms.
X-ALT-DESC;FMTTYPE=text/html:<div>Annual Golf Tournament</div><div>Please see our website <a href="http://www.2wheelah.com">www.2wheelah.com</a> for Information and registration forms.</div>
LOCATION:Oquirrh Hills Golf Course1255 East Vine St.\, Tooele
UID:e.125.215
SEQUENCE:3
DTSTAMP:20260424T171421Z
URL:https://members.tooelechamber.com/events/details/chamber-annual-golf-tournament-06-13-2008-215
END:VEVENT

END:VCALENDAR
