BEGIN:VCALENDAR
VERSION:2.0
PRODID:-//ChamberMaster//Event Calendar 2.0//EN
METHOD:PUBLISH
X-PUBLISHED-TTL:P3D
REFRESH-INTERVAL:P3D
CALSCALE:GREGORIAN
BEGIN:VEVENT
DTSTART;VALUE=DATE:20110617
DTEND;VALUE=DATE:20110618
TRANSP:TRANSPARENT
X-MICROSOFT-CDO-ALLDAYEVENT:TRUE
SUMMARY:Chamber Annual Golf Tournament
DESCRIPTION:Tooele County Chamber of Commerce\n\n	Annual Golf Tournament\n\n	Friday\, June 17\, 2011\n\n	Breakfast starts @ 7am Shot Gun Start @ 8am\n\n	Oquirrh Hills Golf Course\, 1255 East Vine Street\, Tooele\n\n	To reserve your spot\, call the\n\n	Chamber Office 435-882-0690
X-ALT-DESC;FMTTYPE=text/html:<p style="text-align: center">\n	<span style="font-family: tahoma"><span style="font-size: 22px">Tooele County Chamber of Commerce<br />\n	Annual Golf Tournament<br />\n	Friday\, June 17\, 2011<br />\n	Breakfast starts @ 7am Shot Gun Start @ 8am<br />\n	Oquirrh Hills Golf Course\, 1255 East Vine Street\, Tooele<br />\n	To reserve your spot\, call the<br />\n	Chamber Office 435-882-0690</span></span></p>\n
LOCATION:
UID:e.125.3536
SEQUENCE:3
DTSTAMP:20260422T074630Z
URL:https://members.tooelechamber.com/events/details/chamber-annual-golf-tournament-06-17-2011-3536
END:VEVENT

END:VCALENDAR
