BEGIN:VCALENDAR
VERSION:2.0
PRODID:-//ChamberMaster//Event Calendar 2.0//EN
METHOD:PUBLISH
X-PUBLISHED-TTL:P3D
REFRESH-INTERVAL:P3D
CALSCALE:GREGORIAN
BEGIN:VEVENT
DTSTART;VALUE=DATE:20080202
DTEND;VALUE=DATE:20080203
TRANSP:TRANSPARENT
X-MICROSOFT-CDO-ALLDAYEVENT:TRUE
SUMMARY:Chamber Annual Installation Banquet
DESCRIPTION:Tooele County Chamber of Commerce Annual Installation Banquet.  Come help us celebrate the 60th Anniversary of the Chamber!
X-ALT-DESC;FMTTYPE=text/html:<div align="center"><font size="5">Tooele County Chamber of Commerce Annual Installation Banquet.&nbsp\; Come help us celebrate the 60th Anniversary of the Chamber!</font></div><div>&nbsp\;</div>
LOCATION:St. Marguerite's Church510 East Vine StreetTooele\, UT
UID:e.125.187
SEQUENCE:3
DTSTAMP:20260424T232255Z
URL:https://members.tooelechamber.com/events/details/chamber-annual-installation-banquet-02-02-2008-187
END:VEVENT

END:VCALENDAR
