BEGIN:VCALENDAR
VERSION:2.0
PRODID:-//ChamberMaster//Event Calendar 2.0//EN
METHOD:PUBLISH
X-PUBLISHED-TTL:P3D
REFRESH-INTERVAL:P3D
CALSCALE:GREGORIAN
BEGIN:VEVENT
DTSTART:20110704T130000Z
DTEND:20110704T143000Z
X-MICROSOFT-CDO-ALLDAYEVENT:FALSE
SUMMARY:Chamber Annual July 4th Breakfast
DESCRIPTION:Tooele County Chamber of Commerce July 4th Breakfast \n\n	Monday\, July 4th from 7-8:30am\n\n	Veteran's Memorial Park\n\n	435-882-0690
X-ALT-DESC;FMTTYPE=text/html:<p style="text-align: center">\n	<span style="font-size: 20px">Tooele County Chamber of Commerce July 4th Breakfast </span></p>\n<p style="text-align: center">\n	<span style="font-size: 20px">Monday\, July 4th from 7-8:30am<br />\n	Veteran&#39\;s Memorial Park<br />\n	435-882-0690</span></p>
LOCATION:
UID:e.125.3545
SEQUENCE:3
DTSTAMP:20260422T060147Z
URL:https://members.tooelechamber.com/events/details/chamber-annual-july-4th-breakfast-07-04-2011-3545
END:VEVENT

END:VCALENDAR
