BEGIN:VCALENDAR
VERSION:2.0
PRODID:-//ChamberMaster//Event Calendar 2.0//EN
METHOD:PUBLISH
X-PUBLISHED-TTL:P3D
REFRESH-INTERVAL:P3D
CALSCALE:GREGORIAN
BEGIN:VEVENT
DTSTART:20070411T180000Z
DTEND:20070411T070000Z
X-MICROSOFT-CDO-ALLDAYEVENT:FALSE
SUMMARY:Chamber April Luncheon
DESCRIPTION:Chamber Monthly Luncheon\nSponsor:  Tooele County\nSpeaker:   Legislative Appreciation Luncheon\nPlace:  Deseret Peak Complex- Utah Firemans Museum\nCost:  $10 per person\nPlease RSVP to Chamber Office 435-882-0690 by Monday\, April 9th\, 5pm
X-ALT-DESC;FMTTYPE=text/html:<p>Chamber Monthly Luncheon<br />Sponsor:&nbsp\; Tooele County<br />Speaker:&nbsp\;&nbsp\; Legislative Appreciation Luncheon<br />Place:&nbsp\; Deseret Peak Complex- Utah Firemans Museum<br />Cost:&nbsp\; $10 per person<br />Please RSVP to Chamber Office 435-882-0690 by Monday\, April 9th\, 5pm</p>
LOCATION:Deseret Peak Complex Utah Firemans Museum
UID:e.125.72
SEQUENCE:3
DTSTAMP:20260425T143216Z
URL:https://members.tooelechamber.com/events/details/chamber-april-luncheon-04-11-2007-72
END:VEVENT

END:VCALENDAR
