BEGIN:VCALENDAR
VERSION:2.0
PRODID:-//ChamberMaster//Event Calendar 2.0//EN
METHOD:PUBLISH
X-PUBLISHED-TTL:P3D
REFRESH-INTERVAL:P3D
CALSCALE:GREGORIAN
BEGIN:VEVENT
DTSTART:20130823T230000Z
DTEND:20130824T020000Z
X-MICROSOFT-CDO-ALLDAYEVENT:FALSE
SUMMARY:Chamber BBQ
DESCRIPTION:CHAMBER BBQ\n\n		Friday August 23\, 2012 @ 6pm\n\n		"FRIDAY'S ON VINE"\n\n		Tooele City Park\n\n		200 West Vine Street\n\n		Cost: Can of Food or $1\n\n		\n\n		 \n	\n		Come One Come All!\n\n		Tooele County Chamber of Commerce End of Summer Barbeque at Friday's on Vine\n\n		 \n\n		Proceeds benefit the Tooele County Food Bank!\n\n		 \n\n		The Tooele County Chamber of Commerce will be hosting its annual an end of summer hotdog barbeque prior to the Friday's of Vine concert held at the Tooele City Park. All canned food donations will be donated to the Tooele County food bank.\n\n		 \n\n		Date: Friday\, August 23\, 2013\n\n		Time: 6:00 PM\n\n		Place: Tooele City Park (Vine St. /200 West)\n\n		Cost: $1.00 or 1 Can of Food\n\n		Hotdogs\, chips\, and drink to be served!\n\n		Concert by "Imagine" to follow barbeque at 7:00 PM\n\n		 \n\n		Thank you to Jim's Family Restaurant for donating 250 hotdogs and buns! We are still in need of the following items for the Friday's of Vine Barbeque:\n\n		11-24 Packs of bottled water\n\n		8- Bottles of ketchup\n\n		8-Bottles of mustard\n\n		8- Bottles of relish\n\n		250- Hotdog wrappers (like you would get at a baseball game)\n\n		500-Napkins\n\n		Please contact the Chamber Office at 435-882-0690 to arrange for donations.\n	\n		\n\n		 \n	Click here to edit...
X-ALT-DESC;FMTTYPE=text/html:<div style="color: gray">\n	<p>\n		<span style="font-size: 18px"><span style="font-size: 20px"><span style="font-size: 22px"><strong><span style="color: #ff8c00"><u>CHAMBER BBQ</u></span></strong></span><br />\n		Friday August 23\, 2012 @ 6pm<br />\n		&quot\;FRIDAY&#39\;S ON VINE&quot\;<br />\n		Tooele City Park</span><br />\n		200 West Vine Street<br />\n		Cost: Can of Food or $1</span><br />\n		<br />\n		&nbsp\;</p>\n	<div style="text-align: center">\n		<span style="font-size: 18px">Come One Come All!<br />\n		Tooele County Chamber of Commerce End of Summer Barbeque at Friday&rsquo\;s on Vine<br />\n		&nbsp\;<br />\n		Proceeds benefit the Tooele County Food Bank!<br />\n		&nbsp\;<br />\n		The Tooele County Chamber of Commerce will be hosting its annual an end of summer hotdog barbeque prior to the Friday&rsquo\;s of Vine concert held at the Tooele City Park. All canned food donations will be donated to the Tooele County food bank.<br />\n		&nbsp\;<br />\n		Date: Friday\,&nbsp\;August 23\, 2013<br />\n		Time: 6:00 PM<br />\n		Place: Tooele City Park (Vine St. /200 West)<br />\n		Cost: $1.00 or 1 Can of Food<br />\n		Hotdogs\, chips\, and drink to be served!<br />\n		Concert by &ldquo\;Imagine&rdquo\; to follow barbeque at 7:00 PM<br />\n		&nbsp\;<br />\n		Thank you to Jim&rsquo\;s Family Restaurant for donating 250 hotdogs and buns! We are still in need of the following items for the Friday&rsquo\;s of Vine Barbeque:<br />\n		11-24 Packs of bottled water<br />\n		8- Bottles of ketchup<br />\n		8-Bottles of mustard<br />\n		8- Bottles of relish<br />\n		250- Hotdog wrappers (like you would get at a baseball game)<br />\n		500-Napkins<br />\n		Please contact the Chamber Office at 435-882-0690 to arrange for donations.</span></div>\n	<p>\n		<br />\n		&nbsp\;</p>\n	Click here to edit...</div>\n
LOCATION:
UID:e.125.5035
SEQUENCE:3
DTSTAMP:20260420T112607Z
URL:https://members.tooelechamber.com/events/details/chamber-bbq-08-23-2013-5035
END:VEVENT

END:VCALENDAR
