BEGIN:VCALENDAR
VERSION:2.0
PRODID:-//ChamberMaster//Event Calendar 2.0//EN
METHOD:PUBLISH
X-PUBLISHED-TTL:P3D
REFRESH-INTERVAL:P3D
CALSCALE:GREGORIAN
BEGIN:VEVENT
DTSTART:20120901T000000Z
DTEND:20120901T020000Z
X-MICROSOFT-CDO-ALLDAYEVENT:FALSE
SUMMARY:Chamber BBQ
DESCRIPTION:CHAMBER BBQ\n\n	Friday August 31\, 2012 @ 6pm\n\n	"FRIDAY'S ON VINE"\n\n	Tooele City Park\n\n	200 West Vine Street\n\n	Cost: Can of Food or $1
X-ALT-DESC;FMTTYPE=text/html:<p>\n	<span style="font-size: 18px"><span style="font-size: 20px"><span style="font-size: 22px"><strong><span style="color: #ff8c00"><u>CHAMBER BBQ</u></span></strong></span><br />\n	Friday August 31\, 2012 @ 6pm<br />\n	&quot\;FRIDAY&#39\;S ON VINE&quot\;<br />\n	Tooele City Park</span><br />\n	200 West Vine Street<br />\n	Cost: Can of Food or $1</span></p>\n
LOCATION:
UID:e.125.4872
SEQUENCE:3
DTSTAMP:20260421T085831Z
URL:https://members.tooelechamber.com/events/details/chamber-bbq-08-31-2012-4872
END:VEVENT

END:VCALENDAR
