BEGIN:VCALENDAR
VERSION:2.0
PRODID:-//ChamberMaster//Event Calendar 2.0//EN
METHOD:PUBLISH
X-PUBLISHED-TTL:P3D
REFRESH-INTERVAL:P3D
CALSCALE:GREGORIAN
BEGIN:VEVENT
DTSTART:20080227T143000Z
DTEND:20080227T153000Z
X-MICROSOFT-CDO-ALLDAYEVENT:FALSE
SUMMARY:Chamber Breakfast
DESCRIPTION:Utah Individual Development Account Network will present their program that helps lower-income working families establish a regular pattern of savings and receive a savings match of $3 to $1 toward the purchase of a first home\, start a small business or enroll in an educational program \nNo Cost for this event
X-ALT-DESC;FMTTYPE=text/html:<div><font size="1">Utah Individual Development Account Network will present their program that helps lower-income working families establish a regular pattern of savings and receive a savings match of $3 to $1 toward the purchase of a first home\, start a small business or enroll in an educational program <br /></font><strong>No Cost for this event</strong></div>
LOCATION:Tooele County Courthouse Auditorium47 South Main Street\, Tooele
UID:e.125.235
SEQUENCE:3
DTSTAMP:20260424T231701Z
URL:https://members.tooelechamber.com/events/details/chamber-breakfast-02-27-2008-235
END:VEVENT

END:VCALENDAR
